BEGIN:VCALENDAR
VERSION:2.0
CALSCALE:GREGORIAN
PRODID:adamgibbons/ics
METHOD:PUBLISH
X-PUBLISHED-TTL:PT1H
BEGIN:VEVENT
UID:3@gancio.emo-essen.de
SUMMARY:Backen: Käsefüße
DTSTAMP:20260423T133729Z
DTSTART:20240415T143000Z
DTEND:20240415T160000Z
DESCRIPTION:BACKEN: KÄSEFÜSSE\n[https://yunemo.emo-essen.de/blog/blog/event
	/backen-kaesefuesse/]\n\nHerzhafte Kekse mit Käse.
URL:https://gancio.emo-essen.de/event/backen-kasefusse
LOCATION:EMO - Julienstr. 41\, 45130 Essen
STATUS:CONFIRMED
CATEGORIES:
X-ALT-DESC;FMTTYPE=text/html:<h2><a target="_blank" href="https://yunemo.em
	o-essen.de/blog/blog/event/backen-kaesefuesse/">Backen: Käsefüße</a></h2><
	p>Herzhafte Kekse mit Käse.</p>
BEGIN:VALARM
ACTION:DISPLAY
DESCRIPTION:Backen: Käsefüße
TRIGGER:-PT1H
END:VALARM
END:VEVENT
END:VCALENDAR
