BEGIN:VCALENDAR
VERSION:2.0
CALSCALE:GREGORIAN
PRODID:adamgibbons/ics
METHOD:PUBLISH
X-PUBLISHED-TTL:PT1H
BEGIN:VEVENT
UID:2@gancio.emo-essen.de
SUMMARY:Basteln : Raupe in Bewegung mit Papier\, Küchenrolle\, Kleber\, Sch
	ere und Filzmalern
DTSTAMP:20260423T133756Z
DTSTART:20240410T143000Z
DTEND:20240410T160000Z
DESCRIPTION:BASTELN : RAUPE IN BEWEGUNG\n[https://yunemo.emo-essen.de/blog/
	blog/event/basteln-raupe-in-bewegung/]\n\nMit Papier\, Küchenrolle\, Klebe
	r\, Schere und Filzmalern
URL:https://gancio.emo-essen.de/event/basteln-raupe-in-bewegung
LOCATION:EMO - Julienstr. 41\, 45130 Essen
STATUS:CONFIRMED
CATEGORIES:
X-ALT-DESC;FMTTYPE=text/html:<h2><a href="https://yunemo.emo-essen.de/blog/
	blog/event/basteln-raupe-in-bewegung/" target="_blank">Basteln : Raupe in 
	Bewegung</a></h2><p>Mit Papier, Küchenrolle, Kleber, Schere und Filzmalern
	</p>
BEGIN:VALARM
ACTION:DISPLAY
DESCRIPTION:Basteln : Raupe in Bewegung mit Papier, Küchenrolle, Kleber, Sc
	here und Filzmalern
TRIGGER:-PT1H
END:VALARM
END:VEVENT
END:VCALENDAR
