BEGIN:VCALENDAR
VERSION:2.0
CALSCALE:GREGORIAN
PRODID:adamgibbons/ics
METHOD:PUBLISH
X-PUBLISHED-TTL:PT1H
BEGIN:VEVENT
UID:4@gancio.emo-essen.de
SUMMARY:Basteln: T-Shirt Upcycling  Bitte helle Shirts\, Tücher\,…etc mitbr
	ingen.
DTSTAMP:20260423T134600Z
DTSTART:20240417T143000Z
DTEND:20240417T160000Z
DESCRIPTION:BASTELN: T-SHIRT UPCYCLING\n[https://yunemo.emo-essen.de/blog/b
	log/event/basteln-t-shirt-upcycling/]\n\nBitte helle Shirts\, Tücher\,…etc
	 mitbringen.
URL:https://gancio.emo-essen.de/event/basteln-t-shirt-upcycling-bitte-helle
	-shirts-tucheretc-mitbringen
LOCATION:EMO - Julienstr. 41\, 45130 Essen
STATUS:CONFIRMED
CATEGORIES:
X-ALT-DESC;FMTTYPE=text/html:<h2><a target="_blank" href="https://yunemo.em
	o-essen.de/blog/blog/event/basteln-t-shirt-upcycling/">Basteln: T-Shirt Up
	cycling</a></h2><p>Bitte helle Shirts, Tücher,…etc mitbringen.</p>
BEGIN:VALARM
ACTION:DISPLAY
DESCRIPTION:Basteln: T-Shirt Upcycling  Bitte helle Shirts, Tücher,…etc mit
	bringen.
TRIGGER:-PT1H
END:VALARM
END:VEVENT
END:VCALENDAR
