BEGIN:VCALENDAR
VERSION:2.0
CALSCALE:GREGORIAN
PRODID:adamgibbons/ics
METHOD:PUBLISH
X-PUBLISHED-TTL:PT1H
BEGIN:VEVENT
UID:1@gancio.emo-essen.de
SUMMARY:Basteln: Wir machen Badebomben  ….und eine Entspannungsreise.
DTSTAMP:20260423T134437Z
DTSTART:20240408T143000Z
DTEND:20240408T160000Z
DESCRIPTION:BASTELN: WIR MACHEN BADEBOMBEN\n[https://yunemo.emo-essen.de/bl
	og/blog/event/basteln-wir-machen-badebomben/]\n\n….und eine Entspannungsre
	ise.
URL:https://gancio.emo-essen.de/event/basteln-wir-machen-badebomben-und-ein
	e-entspannungsreise
LOCATION:EMO - Julienstr. 41\, 45130 Essen
STATUS:CONFIRMED
CATEGORIES:
X-ALT-DESC;FMTTYPE=text/html:<h2><a target="_blank" href="https://yunemo.em
	o-essen.de/blog/blog/event/basteln-wir-machen-badebomben/">Basteln: Wir ma
	chen Badebomben</a></h2><p>….und eine Entspannungsreise.</p>
BEGIN:VALARM
ACTION:DISPLAY
DESCRIPTION:Basteln: Wir machen Badebomben  ….und eine Entspannungsreise.
TRIGGER:-PT1H
END:VALARM
END:VEVENT
END:VCALENDAR
