BEGIN:VCALENDAR
VERSION:2.0
CALSCALE:GREGORIAN
PRODID:adamgibbons/ics
METHOD:PUBLISH
X-PUBLISHED-TTL:PT1H
BEGIN:VEVENT
UID:6@gancio.emo-essen.de
SUMMARY:Bewegungs- und Tobespiele auf dem Hof  Bei Regen im Saal.
DTSTAMP:20260423T134554Z
DTSTART:20240424T143000Z
DTEND:20240424T160000Z
DESCRIPTION:BEWEGUNGS- UND TOBESPIELE AUF DEM HOF\n[https://yunemo.emo-esse
	n.de/blog/blog/event/bewegungs-und-tobespiele-auf-dem-hof/]\n\nBei Regen i
	m Saal.
URL:https://gancio.emo-essen.de/event/bewegungs-und-tobespiele-auf-dem-hof-
	bei-regen-im-saal
LOCATION:EMO - Julienstr. 41\, 45130 Essen
STATUS:CONFIRMED
CATEGORIES:
X-ALT-DESC;FMTTYPE=text/html:<h2><a target="_blank" href="https://yunemo.em
	o-essen.de/blog/blog/event/bewegungs-und-tobespiele-auf-dem-hof/">Bewegung
	s- und Tobespiele auf dem Hof</a></h2><p>Bei Regen im Saal.</p>
BEGIN:VALARM
ACTION:DISPLAY
DESCRIPTION:Bewegungs- und Tobespiele auf dem Hof  Bei Regen im Saal.
TRIGGER:-PT1H
END:VALARM
END:VEVENT
END:VCALENDAR
