BEGIN:VCALENDAR
VERSION:2.0
CALSCALE:GREGORIAN
PRODID:adamgibbons/ics
METHOD:PUBLISH
X-PUBLISHED-TTL:PT1H
BEGIN:VEVENT
UID:7@gancio.emo-essen.de
SUMMARY:Impro: 3- Minuten- Theater  Verkleidung\, Pantomime\, Warm Up und F
	reeze !!
DTSTAMP:20260423T134538Z
DTSTART:20240429T143000Z
DTEND:20240429T160000Z
DESCRIPTION:IMPRO: 3- MINUTEN- THEATER\n[https://yunemo.emo-essen.de/blog/b
	log/event/impro-3-minuten-theater/]\n\nVerkleidung\, Pantomime\, Warm Up u
	nd Freeze !!
URL:https://gancio.emo-essen.de/event/impro-3-minuten-theater-verkleidung-p
	antomime-warm-up-und-freeze
LOCATION:EMO - Julienstr. 41\, 45130 Essen
STATUS:CONFIRMED
CATEGORIES:
X-ALT-DESC;FMTTYPE=text/html:<h2><a target="_blank" href="https://yunemo.em
	o-essen.de/blog/blog/event/impro-3-minuten-theater/">Impro: 3- Minuten- Th
	eater</a></h2><p>Verkleidung, Pantomime, Warm Up und Freeze !!</p>
BEGIN:VALARM
ACTION:DISPLAY
DESCRIPTION:Impro: 3- Minuten- Theater  Verkleidung, Pantomime, Warm Up und
	 Freeze !!
TRIGGER:-PT1H
END:VALARM
END:VEVENT
END:VCALENDAR
