BEGIN:VCALENDAR
VERSION:2.0
CALSCALE:GREGORIAN
PRODID:adamgibbons/ics
METHOD:PUBLISH
X-PUBLISHED-TTL:PT1H
BEGIN:VEVENT
UID:20@gancio.emo-essen.de
SUMMARY:Klettern im Seaside
DTSTAMP:20260423T133617Z
DTSTART:20240718T073000Z
DTEND:20240718T130000Z
DESCRIPTION:KLETTERN IM SEASIDE\n[https://yunemo.emo-essen.de/blog/blog/eve
	nt/klettern-im-seaside/]
URL:https://gancio.emo-essen.de/event/klettern-im-seaside
LOCATION:EMO - Julienstr. 41\, 45130 Essen
STATUS:CONFIRMED
CATEGORIES:
X-ALT-DESC;FMTTYPE=text/html:<h2><a target="_blank" href="https://yunemo.em
	o-essen.de/blog/blog/event/klettern-im-seaside/">Klettern im Seaside</a></
	h2>
BEGIN:VALARM
ACTION:DISPLAY
DESCRIPTION:Klettern im Seaside
TRIGGER:-PT1H
END:VALARM
END:VEVENT
END:VCALENDAR
