BEGIN:VCALENDAR
VERSION:2.0
CALSCALE:GREGORIAN
PRODID:adamgibbons/ics
METHOD:PUBLISH
X-PUBLISHED-TTL:PT1H
BEGIN:VEVENT
UID:8@gancio.emo-essen.de
SUMMARY:Kochen: Bunter Nudelsalat  Vegetarisch und vegan.
DTSTAMP:20260423T134318Z
DTSTART:20240506T143000Z
DTEND:20240506T160000Z
DESCRIPTION:KOCHEN: BUNTER NUDELSALAT\n[https://yunemo.emo-essen.de/blog/bl
	og/event/kochen-bunter-nudelsalat/]\n\nVegetarisch und vegan.
URL:https://gancio.emo-essen.de/event/kochen-bunter-nudelsalat-vegetarisch-
	und-vegan
LOCATION:EMO - Julienstr. 41\, 45130 Essen
STATUS:CONFIRMED
CATEGORIES:
X-ALT-DESC;FMTTYPE=text/html:<h2><a target="_blank" href="https://yunemo.em
	o-essen.de/blog/blog/event/kochen-bunter-nudelsalat/">Kochen: Bunter Nudel
	salat</a></h2><p>Vegetarisch und vegan.</p>
BEGIN:VALARM
ACTION:DISPLAY
DESCRIPTION:Kochen: Bunter Nudelsalat  Vegetarisch und vegan.
TRIGGER:-PT1H
END:VALARM
END:VEVENT
END:VCALENDAR
