BEGIN:VCALENDAR
VERSION:2.0
CALSCALE:GREGORIAN
PRODID:adamgibbons/ics
METHOD:PUBLISH
X-PUBLISHED-TTL:PT1H
BEGIN:VEVENT
UID:5@gancio.emo-essen.de
SUMMARY:Lazy Monday  Wir machen Milch-Shakes und backen Waffeln.
DTSTAMP:20260423T134415Z
DTSTART:20240422T143000Z
DTEND:20240422T160000Z
DESCRIPTION:LAZY MONDAY [https://yunemo.emo-essen.de/blog/blog/event/lazy-m
	onday/]\n\nWir machen Milch-Shakes und backen Waffeln.
URL:https://gancio.emo-essen.de/event/lazy-monday-wir-machen-milch-shakes-u
	nd-backen-waffeln
LOCATION:EMO - Julienstr. 41\, 45130 Essen
STATUS:CONFIRMED
CATEGORIES:
X-ALT-DESC;FMTTYPE=text/html:<h2><a target="_blank" href="https://yunemo.em
	o-essen.de/blog/blog/event/lazy-monday/">Lazy Monday</a></h2><p>Wir machen
	 Milch-Shakes und backen Waffeln.</p>
BEGIN:VALARM
ACTION:DISPLAY
DESCRIPTION:Lazy Monday  Wir machen Milch-Shakes und backen Waffeln.
TRIGGER:-PT1H
END:VALARM
END:VEVENT
END:VCALENDAR
