BEGIN:VCALENDAR
VERSION:2.0
CALSCALE:GREGORIAN
PRODID:adamgibbons/ics
METHOD:PUBLISH
X-PUBLISHED-TTL:PT1H
BEGIN:VEVENT
UID:26@gancio.emo-essen.de
SUMMARY:Speisen: Eisbecher
DTSTAMP:20260423T133617Z
DTSTART:20240610T143000Z
DTEND:20240610T160000Z
DESCRIPTION:Heute essen wir Eis !
URL:https://gancio.emo-essen.de/event/speisen-eisbecher
LOCATION:EMO - Julienstr. 41\, 45130 Essen
STATUS:CONFIRMED
CATEGORIES:
X-ALT-DESC;FMTTYPE=text/html:<p>Heute essen wir Eis !</p>
BEGIN:VALARM
ACTION:DISPLAY
DESCRIPTION:Speisen: Eisbecher
TRIGGER:-PT1H
END:VALARM
END:VEVENT
END:VCALENDAR
