BEGIN:VCALENDAR
VERSION:2.0
CALSCALE:GREGORIAN
PRODID:adamgibbons/ics
METHOD:PUBLISH
X-PUBLISHED-TTL:PT1H
BEGIN:VEVENT
UID:39@gancio.emo-essen.de
SUMMARY:Test für unsere Beratungsstelle
DTSTAMP:20260423T123252Z
DTSTART:20241231T161500Z
DESCRIPTION:AUCH EIN TESTEVENT BRAUCHT TESTTEXT\n\nund hier ist er also\, d
	er total Aussagekräftige echt interessante Text
URL:https://gancio.emo-essen.de/event/test-fur-unsere-beratungsstelle
GEO:51.4369;7.00225
LOCATION:Frauenberatung Essen - Zweigertstr. 29 45130 Essen
STATUS:CONFIRMED
CATEGORIES:Beratungsstelle,Frauenberatung
X-ALT-DESC;FMTTYPE=text/html:<h2>Auch ein Testevent braucht Testtext</h2><p
	>und hier ist er also, der total Aussagekräftige echt interessante Text</p
	>
BEGIN:VALARM
ACTION:DISPLAY
DESCRIPTION:Test für unsere Beratungsstelle
TRIGGER:-PT1H
END:VALARM
END:VEVENT
END:VCALENDAR
