BEGIN:VCALENDAR
VERSION:2.0
CALSCALE:GREGORIAN
PRODID:adamgibbons/ics
METHOD:PUBLISH
X-PUBLISHED-TTL:PT1H
BEGIN:VEVENT
UID:40@gancio.emo-essen.de
SUMMARY:WenDo - DIE KRAFT IN MIR Wochenendkurs zur Selbstbehauptung und Sel
	bstverteidigung
DTSTAMP:20260423T105725Z
DTSTART:20261016T160000Z
DTEND:20261016T190000Z
URL:https://gancio.emo-essen.de/event/wendo-die-kraft-in-mir-wochenendkurs-
	zur-selbstbehauptung-und-selbstverteidigung
GEO:51.4369;7.00225
LOCATION:Frauenberatung Essen - Zweigertstr. 29 45130 Essen
STATUS:CONFIRMED
CATEGORIES:Frauenberatung,linda ludewigs,selbstbehauptung,wendo
END:VEVENT
BEGIN:VEVENT
UID:41@gancio.emo-essen.de
SUMMARY:WenDo - DIE KRAFT IN MIR Wochenendkurs zur Selbstbehauptung und Sel
	bstverteidigung
DTSTAMP:20260423T105725Z
DTSTART:20261017T080000Z
DTEND:20261017T143000Z
URL:https://gancio.emo-essen.de/event/wendo-die-kraft-in-mir-wochenendkurs-
	zur-selbstbehauptung-und-selbstverteidigung-1
GEO:51.4369;7.00225
LOCATION:Frauenberatung Essen - Zweigertstr. 29 45130 Essen
STATUS:CONFIRMED
CATEGORIES:Frauenberatung,linda ludewigs,selbstbehauptung,wendo
END:VEVENT
END:VCALENDAR
